BEGIN:VCALENDAR
VERSION:2.0
PRODID:spatie/icalendar-generator
DESCRIPTION:Veranstaltungen von Gemeinde Müssen
X-WR-CALDESC:Veranstaltungen von Gemeinde Müssen
REFRESH-INTERVAL;VALUE=DURATION:PT1440M
X-PUBLISHED-TTL:PT1440M
BEGIN:VTIMEZONE
TZID:Europe/Berlin
BEGIN:DAYLIGHT
DTSTART:20260329T020000Z
TZOFFSETFROM:+0100
TZOFFSETTO:+0200
END:DAYLIGHT
BEGIN:STANDARD
DTSTART:20261025T030000Z
TZOFFSETFROM:+0200
TZOFFSETTO:+0100
END:STANDARD
END:VTIMEZONE
BEGIN:VTIMEZONE
TZID:UTC
BEGIN:STANDARD
DTSTART:20250723T142347Z
TZOFFSETFROM:+0000
TZOFFSETTO:+0000
END:STANDARD
END:VTIMEZONE
BEGIN:VEVENT
UID:470-304
DTSTAMP:20260419T142347Z
SUMMARY:Picknick in Weiß
LOCATION:Schützenhaus Zum Sportplatz
ORGANIZER;CN=Gemeinde Müssen:MAILTO:gesa.bade@outlook.de
DTSTART;TZID=Europe/Berlin:20260822T180000
DTEND;TZID=Europe/Berlin:20260822T230000
X-ALT-DESC;FMTTYPE=TEXT/HTML:<p>EINLADUNG ZUM PICKNICK IN WEISS 2026</p>\n<p>Das Picknick in Weiß ist seit vielen Jahren fester Bestandteil im Veran
 staltungskatalog des „Fördervereins Alte Schule Müssen e.V.“. Und 
 so heißt es auch in diesem Jahr wieder „packt die Leckereien ein und la
 sst uns gemütlich beisammen sein“. Das ganze Dorf kocht\, backt\, rü
 hrt und mixt wieder die tollsten Rezepte zusammen. Gern darf es von allem 
 auch ein wenig mehr sein\, für den Fall\, dass der Tischnachbar oder die
  Tischnachbarin mal etwas probieren möchte. Der Förderverein Alte Schu
 le Müssen e.V. lädt alle Müssener\, ehemaligen Müssener und Freund
 e des Dorfes herzlich dazu ein.</p>\n
CATEGORIES:Förderverein,  Gemeinde
URL;VALUE=URI:https://gemeinde-muessen.online/mc-events/picknick-in-weiss-4
METHOD:PUBLISH
END:VEVENT
END:VCALENDAR